BEGIN:VCALENDAR
VERSION:2.0
PRODID:-//Varazdinski.hr - ECPv6.15.20//NONSGML v1.0//EN
CALSCALE:GREGORIAN
METHOD:PUBLISH
X-WR-CALNAME:Varazdinski.hr
X-ORIGINAL-URL:https://varazdinski.net.hr
X-WR-CALDESC:Events for Varazdinski.hr
REFRESH-INTERVAL;VALUE=DURATION:PT1H
X-Robots-Tag:noindex
X-PUBLISHED-TTL:PT1H
BEGIN:VTIMEZONE
TZID:Europe/Zagreb
BEGIN:DAYLIGHT
TZOFFSETFROM:+0100
TZOFFSETTO:+0200
TZNAME:CEST
DTSTART:20250330T010000
END:DAYLIGHT
BEGIN:STANDARD
TZOFFSETFROM:+0200
TZOFFSETTO:+0100
TZNAME:CET
DTSTART:20251026T010000
END:STANDARD
BEGIN:DAYLIGHT
TZOFFSETFROM:+0100
TZOFFSETTO:+0200
TZNAME:CEST
DTSTART:20260329T010000
END:DAYLIGHT
BEGIN:STANDARD
TZOFFSETFROM:+0200
TZOFFSETTO:+0100
TZNAME:CET
DTSTART:20261025T010000
END:STANDARD
BEGIN:DAYLIGHT
TZOFFSETFROM:+0100
TZOFFSETTO:+0200
TZNAME:CEST
DTSTART:20270328T010000
END:DAYLIGHT
BEGIN:STANDARD
TZOFFSETFROM:+0200
TZOFFSETTO:+0100
TZNAME:CET
DTSTART:20271031T010000
END:STANDARD
END:VTIMEZONE
BEGIN:VEVENT
DTSTART;TZID=Europe/Zagreb:20260419T193000
DTEND;TZID=Europe/Zagreb:20260419T203000
DTSTAMP:20260421T101145
CREATED:20260417T150000Z
LAST-MODIFIED:20260417T140615Z
UID:13452169-1776627000-1776630600@varazdinski.net.hr
SUMMARY:Varaždinski komorni orkestar i Evelin Novak: Glazbena večer uz Wagnera\, Mozarta i Bobića
DESCRIPTION:Za četvrti koncert u ovoj pretplatničkoj sezoni Varaždinski komorni orkestar pripremio je atraktivan program koji će izvesti zajedno s našom poznatom sopranisticom Evelin Novak\, članicom ansambla Staatsoper u Berlinu. \n\n\n\nOrkestar će pod ravnanjem maestra Ive Lipanovića izvesti – Siegfried idilu\, simfonijsku pjesmu Richarda Wagnera te poznato orkestralno djelo Wolfganga Amadeusa Mozarta – Simfonija br. 41\, K. 551 – Jupiter\, a publika će na koncertu\, nakon duljeg vremena\, ponovo imati prigodu čuti sjajnu sopranisticu Evelin Novak\, nekadašnju učenicu varaždinske Glazbene škole\, koja će izvesti Međimurske legende za sopran i orkestar Davora Bobića. \n\n\n\nNjegove Međimurske legende su djelo osebujnoga glazbenog izričaja koje je zaokruženo suptilnom dramaturgijom i besprijekornom ljepotom međimurskoga melosa. Ovaj Bobićev ciklus sastavljen je od pet poznatih međimurskih pjesama\, od kojih su tri odabrane iz notne ostavštine Florijana Andrašeca\, a dvije su preuzete iz Zbornika međimurskih pjesama Vinka Žganca\, koje odlikuje izrazita nostalgična melankoličnost\, izražajna melodičnost ali i naglašena ritmičnost izabranih pjesama uz majstorsku instrumentaciju. \n\n\n\nOvaj poseban opus u svom bogatom stvaralaštvu Davor Bobić je posvetio upravo sopranistici Evelin Novak\, svojoj nekadašnjoj učenici na varaždinskoj Glazbenoj školi\, koja s velikim uspjehom nastupa i na opernim pozornicama diljem Europe. \n\n\n\nKoncert će u Velikoj koncertnoj dvorani varaždinskog kazališta početi u 19 sati i 30 minuta\, a ulaznice su dostupne\, po cijeni od 7 eura\, na mrežnoj stranici Koncertnog ureda Varaždin ili sat vremena prije koncerta na blagajni kazališta.
URL:https://varazdinski.net.hr/vijesti/kultura/13452169/varazdinski-komorni-orkestar-i-evelin-novak-glazbena-vecer-uz-wagnera-mozarta-i-bobica/
LOCATION:HNK u Varaždinu\, Augusta Cesarca 1\, Varaždin\, 42000\, Croatia (Local Name: Hrvatska)
ATTACH;FMTTYPE=image/jpeg:https://cdn-varazdinski.net.hr/wp-content/uploads/a67b3a4b44640bad4930f7393615d719.jpg
END:VEVENT
END:VCALENDAR