BEGIN:VCALENDAR
VERSION:2.0
PRODID:-//Varazdinski.hr - ECPv6.15.20//NONSGML v1.0//EN
CALSCALE:GREGORIAN
METHOD:PUBLISH
X-WR-CALNAME:Varazdinski.hr
X-ORIGINAL-URL:https://varazdinski.net.hr
X-WR-CALDESC:Events for Varazdinski.hr
REFRESH-INTERVAL;VALUE=DURATION:PT1H
X-Robots-Tag:noindex
X-PUBLISHED-TTL:PT1H
BEGIN:VTIMEZONE
TZID:Europe/Zagreb
BEGIN:DAYLIGHT
TZOFFSETFROM:+0100
TZOFFSETTO:+0200
TZNAME:CEST
DTSTART:20250330T010000
END:DAYLIGHT
BEGIN:STANDARD
TZOFFSETFROM:+0200
TZOFFSETTO:+0100
TZNAME:CET
DTSTART:20251026T010000
END:STANDARD
BEGIN:DAYLIGHT
TZOFFSETFROM:+0100
TZOFFSETTO:+0200
TZNAME:CEST
DTSTART:20260329T010000
END:DAYLIGHT
BEGIN:STANDARD
TZOFFSETFROM:+0200
TZOFFSETTO:+0100
TZNAME:CET
DTSTART:20261025T010000
END:STANDARD
BEGIN:DAYLIGHT
TZOFFSETFROM:+0100
TZOFFSETTO:+0200
TZNAME:CEST
DTSTART:20270328T010000
END:DAYLIGHT
BEGIN:STANDARD
TZOFFSETFROM:+0200
TZOFFSETTO:+0100
TZNAME:CET
DTSTART:20271031T010000
END:STANDARD
END:VTIMEZONE
BEGIN:VEVENT
DTSTART;TZID=Europe/Zagreb:20260421T170000
DTEND;TZID=Europe/Zagreb:20260421T180000
DTSTAMP:20260421T064059
CREATED:20260418T120000Z
LAST-MODIFIED:20260418T084514Z
UID:13452914-1776790800-1776794400@varazdinski.net.hr
SUMMARY:Radionica autogenog treninga u Gradskoj knjižnici „Metel Ožegović“
DESCRIPTION:Gradska knjižnica „Metel Ožegović“ u Varaždinu ugostit će u utorak\, 21. travnja\, s početkom u 17 sati radionicu opuštanja pod nazivom „Autogeni trening za mame i tate – praktična vježba opuštanja“. \n\n\n\nIako je naslov primarno usmjeren na roditelje\, organizatori navode da su na sudjelovanje pozvani svi građani kojima je potreban mir. \n\n\n\nRadionica se provodi u sklopu projekta „Za snažnije i sigurnije obitelji“\, koji zajednički provode Ministarstvo demografije\, Dom zdravlja Varaždin i udruga Bedem ljubavi Varaždin. \n\n\n\nUlaz na događanje je slobodan za sve zainteresirane posjetitelje.
URL:https://varazdinski.net.hr/vijesti/drustvo/13452914/radionica-autogenog-treninga-u-gradskoj-knjiznici-metel-ozegovic/
LOCATION:Gradska knjižnica Varaždin\, Franjevački trg 4\, Varaždin\, Croatia region\, 10000\, Croatia (Local Name: Hrvatska)
ATTACH;FMTTYPE=image/jpeg:https://cdn-varazdinski.net.hr/wp-content/uploads/200247ba181a27fe689a89687e33a1fe.jpg
END:VEVENT
BEGIN:VEVENT
DTSTART;TZID=Europe/Zagreb:20260421T190000
DTEND;TZID=Europe/Zagreb:20260421T203000
DTSTAMP:20260421T064059
CREATED:20260420T110000Z
LAST-MODIFIED:20260420T102150Z
UID:13453103-1776798000-1776803400@varazdinski.net.hr
SUMMARY:Predstavljanje knjige „Planina suza bogova” autora Don Dantea u Novom Marofu
DESCRIPTION:Ljubitelji pisane riječi imat će priliku prisustvovati posebnoj večeri u Novom Marofu posvećenoj duhovnosti\, osobnom iskustvu i humanosti. \n\n\n\nU utorak\, 21. travnja 2026. godine s početkom u 19 sati\, u velikoj dvorani Kulturnog centra „Ivan Rabuzin” upriličit će se predstavljanje knjige „Planina suza bogova” autora Don Dantea\, odnosno velečasnog Željka Lovrića. \n\n\n\nRiječ je o njegovoj prvoj knjizi\, objavljenoj u godini u kojoj obilježava 25 godina svećeničke službe\, a kroz koju progovara o temama vjere\, boli\, slobode i istine. Knjiga donosi snažnu osobnu i duhovnu priču u kojoj autor propituje suvremeno društvo\, ali i vlastiti životni put\, ističući kako čovjek često raste upravo ondje gdje se suočava s vlastitim lomovima. \n\n\n\n„Planina suza bogova” simbolizira put sazrijevanja i unutarnjeg susreta s Bogom\, a kroz njezine stranice provlači se poruka da bol nije kraj\, nego početak istine. Autor otvoreno govori o pritiscima i očekivanjima koje društvo stavlja pred pojedinca\, osobito pred svećenika\, naglašavajući važnost autentičnosti i slobode u životu i vjeri. \n\n\n\nPosebnu dimenziju knjizi daje i intimniji uvid u autorov život\, uključujući priču o njegovu psu Danteu koji postaje simbol vjernosti i oslonca u najtežim trenucima. \n\n\n\nNa predstavljanju u Novom Marofu sudjelovat će i poseban gost – umjetnik Stephan Lupino\, a događaj će okupiti uzvanike iz javnog i kulturnog života. \n\n\n\nUlaz na predstavljanje je besplatan\, a sav prihod od prodaje knjiga namijenjen je u humanitarne svrhe\, odnosno za djevojčicu Nives. \n\n\n\nOrganizator događanja je Gradska knjižnica i čitaonica Novi Marof.
URL:https://varazdinski.net.hr/vijesti/kultura/13453103/predstavljanje-knjige-planina-suza-bogova-autora-don-dantea-u-novom-marofu/
LOCATION:Kulturni centar “Ivan Rabuzin” Novi Marof\, Ulica Antuna Mihanovića 3\, Novi Marof\, 42220\, Croatia (Local Name: Hrvatska)
ATTACH;FMTTYPE=image/jpeg:https://cdn-varazdinski.net.hr/wp-content/uploads/b512960bc08f69cabd10e0ca5e223b72.jpg
END:VEVENT
BEGIN:VEVENT
DTSTART;TZID=Europe/Zagreb:20260421T193000
DTEND;TZID=Europe/Zagreb:20260421T210000
DTSTAMP:20260421T064059
CREATED:20260414T190000Z
LAST-MODIFIED:20260414T144228Z
UID:13452625-1776799800-1776805200@varazdinski.net.hr
SUMMARY:HNK Varaždin pokreće ciklus Koncertni utorak: Prva na redu je Hrvatska misa
DESCRIPTION:Hrvatsko narodno kazalište u Varaždinu pokreće novi ciklus Koncertni utorak\, šest koncertnih večeri posvećenih Borisu Papandopulu uz vrhunske glazbenike i ansamble. \n\n\n\nCiklus se otvara 21. travnja 2026. u 19\,30 sati u Velikoj koncertnoj dvorani\, koncertom posvećenim 120. obljetnici rođenja Borisa Papandopula. Na programu je njegovo antologijsko djelo Hrvatska misa u d-molu. \n\n\n\nNastupaju: Zbor Hrvatske radiotelevizije pod dirigentskim vodstvom maestra Tomislava Fačinija \n\n\n\nuz soliste Dariju Auguštan (sopran)\, Martinu Gojčeta Silić (mezzosopran)\, Stjepana Franetovića (tenor) i Roberta Kolara (bariton). \n\n\n\nHrvatska misa Borisa Papandopula (1906. – 1991.) monumentalno je djelo za zbor a cappella i četiri solista\, čiju šesterostavačnu koncepciju ponajprije određuje tekst standardnog misnog ordinarija na hrvatskom jeziku\, a skladatelj je oblikuje gotovo konvencionalno\, no dramaturški istančano\, nizanjem odlomaka\, većih i manjih solističkih i zborskih točaka. Vješto spajajući tradicijski i umjetnički izričaj\, stvara raskošno višeglasje koje katkad obuhvaća i dvanaest glasova\, a harmonijskim rješenjima\, naglim modulacijama te promjenama metra podsjeća na osebujnost vlastitog rukopisa unutar mahom homofonih i dijatonskih izbora\, koji na neki način potvrđuju sadržaj naznačen naslovom. \n\n\n\nUtorkom je vrijeme za glazbu! \n\n\n\nNe propustite ovaj jedinstven glazbeni događaj i na vrijeme osigurajte svoje ulaznice putem online prodaje ili na blagajni Kazališta.
URL:https://varazdinski.net.hr/vijesti/kultura/13452625/hnk-varazdin-pokrece-ciklus-koncertni-utorak-prva-na-redu-je-hrvatska-misa/
LOCATION:HNK u Varaždinu\, Velika koncertna dvorana\, Ulica Augusta Cesarca 1\, Varaždin\, 42000\, Croatia (Local Name: Hrvatska)
ATTACH;FMTTYPE=image/jpeg:https://cdn-varazdinski.net.hr/wp-content/uploads/unnamed-57.jpg
END:VEVENT
END:VCALENDAR