BEGIN:VCALENDAR
VERSION:2.0
PRODID:-//Varazdinski.hr - ECPv6.15.20//NONSGML v1.0//EN
CALSCALE:GREGORIAN
METHOD:PUBLISH
X-WR-CALNAME:Varazdinski.hr
X-ORIGINAL-URL:https://varazdinski.net.hr
X-WR-CALDESC:Events for Varazdinski.hr
REFRESH-INTERVAL;VALUE=DURATION:PT1H
X-Robots-Tag:noindex
X-PUBLISHED-TTL:PT1H
BEGIN:VTIMEZONE
TZID:Europe/Zagreb
BEGIN:DAYLIGHT
TZOFFSETFROM:+0100
TZOFFSETTO:+0200
TZNAME:CEST
DTSTART:20250330T010000
END:DAYLIGHT
BEGIN:STANDARD
TZOFFSETFROM:+0200
TZOFFSETTO:+0100
TZNAME:CET
DTSTART:20251026T010000
END:STANDARD
BEGIN:DAYLIGHT
TZOFFSETFROM:+0100
TZOFFSETTO:+0200
TZNAME:CEST
DTSTART:20260329T010000
END:DAYLIGHT
BEGIN:STANDARD
TZOFFSETFROM:+0200
TZOFFSETTO:+0100
TZNAME:CET
DTSTART:20261025T010000
END:STANDARD
BEGIN:DAYLIGHT
TZOFFSETFROM:+0100
TZOFFSETTO:+0200
TZNAME:CEST
DTSTART:20270328T010000
END:DAYLIGHT
BEGIN:STANDARD
TZOFFSETFROM:+0200
TZOFFSETTO:+0100
TZNAME:CET
DTSTART:20271031T010000
END:STANDARD
END:VTIMEZONE
BEGIN:VEVENT
DTSTART;TZID=Europe/Zagreb:20260423T110000
DTEND;TZID=Europe/Zagreb:20260423T120000
DTSTAMP:20260423T074022
CREATED:20260421T170000Z
LAST-MODIFIED:20260421T141638Z
UID:13453247-1776942000-1776945600@varazdinski.net.hr
SUMMARY:Panel-tribina na FOI-ju sa Zlatkom Dalićem
DESCRIPTION:U četvrtak\, 23. travnja 2026. godine s početkom u 11 sati na Fakultetu organizacije i informatike u Varaždinu održat će se panel tribina. \n\n\n\nPanel- tribina nosi naziv ‘Dual karijera: sport kao saveznik akademskog uspjeha i očuvanja zdravlja u izgradnji profesionalne karijere’. \n\n\n\nPredstavnici akademske i sportske zajednice otvorit će aktualnu temu usklađivanja sportskih obveza\, obrazovanja i osobnog razvoja te govoriti o izazovima i prednostima dualne karijere. \n\n\n\nPoseban naglasak bit će stavljen na važnost očuvanja tjelesnog i mentalnog zdravlja te stvaranje poticajnog okruženja za mlade sportaše i studente. \n\n\n\nGovornici\n\n\n\nZlatko Dalić\, izbornik Hrvatske nogometne reprezentacije \n\n\n\nprof. dr. sc. Romana Caput Jogunica\, članica Povjerenstva za izradu prijedloga reorganizacije nastave TZK na hrvatskim sveučilištima \n\n\n\nizv. prof. dr. sc. Sanja Ćurković\, Hrvatski akademski sportski savez i Zagrebački akademski sportski savez \n\n\n\nMiran Maričić\, osvajač brončane olimpijske medalje i bivši student FOI-ja \n\n\n\nIvan Sršen\, mag. educ. inf.\, profesionalni sportaš i bivši student FOI-ja \n\n\n\ndr. sc. Damir Vučić\, viši predavač iz TZK SUZG FOI
URL:https://varazdinski.net.hr/vijesti/drustvo/13453247/panel-tribina-na-foi-ju-sa-zlatkom-dalicem/
LOCATION:FOI\, Pavlinska 2\, Varaždin\, Croatia (Local Name: Hrvatska)
ATTACH;FMTTYPE=image/jpeg:https://cdn-varazdinski.net.hr/wp-content/uploads/FOI-VZ.jpg
END:VEVENT
BEGIN:VEVENT
DTSTART;TZID=Europe/Zagreb:20260423T170000
DTEND;TZID=Europe/Zagreb:20260423T180000
DTSTAMP:20260423T074022
CREATED:20260421T090000Z
LAST-MODIFIED:20260421T083032Z
UID:13453191-1776963600-1776967200@varazdinski.net.hr
SUMMARY:Šetnja sjećanja na brigadnog generala Željka Dvekara
DESCRIPTION:Povodom prve obljetnice otvorenja Šetnice brigadnog generala Željka Dvekara\, Grad Varaždinske Toplice organizira prigodnu šetnju koja će se održati u četvrtak\, 23. travnja\, s ciljem odavanja počasti brigadnom generalu i očuvanja sjećanja na njegov doprinos Domovinskom ratu i lokalnoj zajednici. \n\n\n\nOkupljanje sudionika predviđeno je u 17:00 sati na Trgu Republike Hrvatske\, odakle će uslijediti organizirana šetnja Šetnicom brigadnog generala Željka Dvekara. Za sve sudionike osigurana je okrjepa tijekom programa\, a po završetku šetnje planiran je povratak u restoran Bernarda\, gdje će se druženje nastaviti uz prigodno osvježenje. \n\n\n\nŠetnica brigadnog generala Željka Dvekara\, koja povezuje Hrastovec Toplički i Varaždinske Toplice\, otvorena je 23. travnja prošle godine\, kao trajni spomen na istaknutog hrvatskog branitelja\, zapovjednika i čovjeka koji je svojim djelovanjem ostavio dubok trag u Domovinskom ratu\, ali i u društvenom životu Varaždinskih Toplica i šire. \n\n\n\nGradonačelnica Varaždinskih Toplica Dragica Ratković istaknula je kako je obilježavanje prve obljetnice prilika da se još jednom naglasi važnost očuvanja uspomene na brigadnog generala Dvekara te vrijednosti koje je predstavljao. \n\n\n\n\nŠetnica brigadnog generala Željka Dvekara nije samo uređena pješačka staza\, već mjesto koje nas podsjeća na čovjeka koji je svojim djelovanjem\, hrabrošću i predanošću obilježio povijest našega kraja i domovine. Organizacijom ove šetnje želimo mu odati počast\, ali i zahvalnost prenijeti na buduće generacije koje će ovdje moći učiti o njegovoj ulozi i vrijednostima koje je živio – poručila je gradonačelnica Ratković.\n\n\n\n\nDolazak na šetnju je potrebno potvrditi najkasnije do utorka 21. travnja na broj 098/555-655.
URL:https://varazdinski.net.hr/vijesti/drustvo/13453191/setnja-sjecanja-na-brigadnog-generala-zeljka-dvekara/
LOCATION:Varaždinske Toplice\, Varaždinske Toplice\, 42223\, Croatia (Local Name: Hrvatska)
ATTACH;FMTTYPE=image/jpeg:https://cdn-varazdinski.net.hr/wp-content/uploads/brigadni-general-Dvekar-setnica-8-1.jpg
END:VEVENT
BEGIN:VEVENT
DTSTART;TZID=Europe/Zagreb:20260423T180000
DTEND;TZID=Europe/Zagreb:20260423T190000
DTSTAMP:20260423T074022
CREATED:20260409T150000Z
LAST-MODIFIED:20260409T132351Z
UID:13452150-1776967200-1776970800@varazdinski.net.hr
SUMMARY:Predstavljanje knjige dr. sc. Marijane Kolednjak o filozofiji Marthe Nussbaum
DESCRIPTION:Povodom obilježavanja manifestacije Noć knjige 2026.\, Gradska knjižnica i čitaonica “Metel Ožegović” Varaždin organizira predstavljanje knjige “Emocije i etika: filozofska perspektiva Marthe Nussbaum”\, autorice dr. sc. Marijane Kolednjak. \n\n\n\nProgram će se održati u ponedjeljak\, 23. travnja 2026. godine\, s početkom u 18 sati u prostoru knjižnice na Franjevačkom trgu 4. \n\n\n\nO ovom značajnom djelu koje istražuje isprepletenost ljudskih osjećaja i moralnih načela\, uz samu autoricu\, govorit će recenzenti prof. dr. sc. Hrvoje Jurić i prof. dr. sc. Ivan Koprek. \n\n\n\nPozivaju se svi zainteresirani građani i ljubitelji filozofije da se pridruže ovoj književnoj večeri i kroz razgovor s gostima otkriju nove perspektive suvremene etike.
URL:https://varazdinski.net.hr/vijesti/kultura/13452150/predstavljanje-knjige-dr-sc-marijane-kolednjak-o-filozofiji-marthe-nussbaum/
LOCATION:Gradska knjižnica Varaždin\, Franjevački trg 4\, Varaždin\, Croatia region\, 10000\, Croatia (Local Name: Hrvatska)
ATTACH;FMTTYPE=image/jpeg:https://cdn-varazdinski.net.hr/wp-content/uploads/a12ffaa5aa75a25c771d8475f1a579ba.jpg
END:VEVENT
END:VCALENDAR